BEGIN:VCALENDAR
VERSION:2.0
PRODID:icalendar-ruby
CALSCALE:GREGORIAN
BEGIN:VEVENT
DTSTAMP:20260420T130837Z
UID:449423ca-4f66-4580-9d30-544f454e7d48
DTSTART:20260425T000000
DTEND:20260425T030000
DESCRIPTION:Grayscale live in concert at The Masquerade (Heaven)
LOCATION:The Masquerade (Heaven)\, Atlanta\, GA\, USA
ORGANIZER:mailto:events@ampwrecked.com
SUMMARY:Grayscale - Grayscale at The Masquerade (Heaven)
END:VEVENT
END:VCALENDAR
