BEGIN:VCALENDAR
VERSION:2.0
PRODID:icalendar-ruby
CALSCALE:GREGORIAN
BEGIN:VEVENT
DTSTAMP:20260420T113410Z
UID:85042df8-2e63-4bba-8599-9458a4d8cf3b
DTSTART:20260424T000000
DTEND:20260424T030000
DESCRIPTION:Grayscale live in concert at Marathon Music Works
LOCATION:Marathon Music Works\, Nashville\, TN\, USA
ORGANIZER:mailto:events@ampwrecked.com
SUMMARY:Grayscale - Grayscale at Marathon Music Works
END:VEVENT
END:VCALENDAR
