BEGIN:VCALENDAR
VERSION:2.0
PRODID:icalendar-ruby
CALSCALE:GREGORIAN
BEGIN:VEVENT
DTSTAMP:20260420T113416Z
UID:8a123e0a-86eb-4353-9072-176554aa2de6
DTSTART:20260423T000000
DTEND:20260423T030000
DESCRIPTION:Grayscale live in concert at The Fillmore Charlotte
LOCATION:The Fillmore Charlotte\, Charlotte\, NC\, USA
ORGANIZER:mailto:events@ampwrecked.com
SUMMARY:Grayscale - Grayscale at The Fillmore Charlotte
END:VEVENT
END:VCALENDAR
