BEGIN:VCALENDAR
VERSION:2.0
PRODID:icalendar-ruby
CALSCALE:GREGORIAN
BEGIN:VEVENT
DTSTAMP:20260420T113359Z
UID:410e1740-5b31-440d-bacb-43c9e0bb6bc9
DTSTART:20260421T000000
DTEND:20260421T030000
DESCRIPTION:Grayscale live in concert at Brooklyn Paramount
LOCATION:Brooklyn Paramount\, Brooklyn\, NY\, USA
ORGANIZER:mailto:events@ampwrecked.com
SUMMARY:Grayscale - Grayscale at Brooklyn Paramount
END:VEVENT
END:VCALENDAR
