BEGIN:VCALENDAR
VERSION:2.0
PRODID:icalendar-ruby
CALSCALE:GREGORIAN
BEGIN:VEVENT
DTSTAMP:20260420T114451Z
UID:5a99517d-f8c0-46d6-8f83-18abc1e7a558
DTSTART:20260612T000000
DTEND:20260612T030000
DESCRIPTION:Naysayer live in concert at Other Half Ramova
LOCATION:Other Half Ramova\, Chicago\, IL\, USA
ORGANIZER:mailto:events@ampwrecked.com
SUMMARY:Naysayer - Naysayer at Other Half Ramova
END:VEVENT
END:VCALENDAR
