BEGIN:VCALENDAR
VERSION:2.0
PRODID:icalendar-ruby
CALSCALE:GREGORIAN
BEGIN:VEVENT
DTSTAMP:20260420T083253Z
UID:451f79a5-3d61-4823-ab04-69e489daaee3
DTSTART:20260912T000000
DTEND:20260912T030000
DESCRIPTION:The Devil Wears Prada live in concert at Vans Warped Tour Mexic
 o City 2026
LOCATION:Vans Warped Tour Mexico City 2026\, México\, \, Mexico
ORGANIZER:mailto:events@ampwrecked.com
SUMMARY:The Devil Wears Prada - The Devil Wears Prada at Vans Warped Tour M
 exico City 2026
END:VEVENT
END:VCALENDAR
