BEGIN:VCALENDAR
VERSION:2.0
PRODID:icalendar-ruby
CALSCALE:GREGORIAN
BEGIN:VEVENT
DTSTAMP:20260420T083359Z
UID:8bd2b97a-8ee2-4ce3-86ed-8ac77bda99df
DTSTART:20260725T000000
DTEND:20260725T030000
DESCRIPTION:The Devil Wears Prada live in concert at Warped Tour Long Beach
  2026
LOCATION:Warped Tour Long Beach 2026\, Long Beach\, CA\, USA
ORGANIZER:mailto:events@ampwrecked.com
SUMMARY:The Devil Wears Prada - The Devil Wears Prada at Warped Tour Long B
 each 2026
END:VEVENT
END:VCALENDAR
