BEGIN:VCALENDAR
VERSION:2.0
PRODID:icalendar-ruby
CALSCALE:GREGORIAN
BEGIN:VEVENT
DTSTAMP:20260420T083401Z
UID:bd6bcd83-ca68-4eb9-b084-fe0eac8ff036
DTSTART:20260613T000000
DTEND:20260613T030000
DESCRIPTION:The Devil Wears Prada live in concert at Warped Tour Washington
 \, D.C. 2026
LOCATION:Warped Tour Washington\, D.C. 2026\, Greenway\, DC\, USA
ORGANIZER:mailto:events@ampwrecked.com
SUMMARY:The Devil Wears Prada - The Devil Wears Prada at Warped Tour Washin
 gton\, D.C. 2026
END:VEVENT
END:VCALENDAR
