BEGIN:VCALENDAR
VERSION:2.0
PRODID:icalendar-ruby
CALSCALE:GREGORIAN
BEGIN:VEVENT
DTSTAMP:20260420T083421Z
UID:9ecf33cb-0fb0-4ef4-8255-e51c080407d5
DTSTART:20260622T000000
DTEND:20260622T030000
DESCRIPTION:Gutrectomy live in concert at Kulttempel
LOCATION:Kulttempel\, Oberhausen\, \, Germany
ORGANIZER:mailto:events@ampwrecked.com
SUMMARY:Gutrectomy - Gutrectomy at Kulttempel
END:VEVENT
END:VCALENDAR
