BEGIN:VCALENDAR
VERSION:2.0
PRODID:icalendar-ruby
CALSCALE:GREGORIAN
BEGIN:VEVENT
DTSTAMP:20260420T083456Z
UID:ba610c94-2435-4b4e-9840-9754031bf0fe
DTSTART:20260623T000000
DTEND:20260623T030000
DESCRIPTION:Against Everyone live in concert at den Atelier
LOCATION:den Atelier\, Luxembourg-City\, \, Luxembourg
ORGANIZER:mailto:events@ampwrecked.com
SUMMARY:Against Everyone - Against Everyone at den Atelier
END:VEVENT
END:VCALENDAR
