BEGIN:VCALENDAR
VERSION:2.0
PRODID:icalendar-ruby
CALSCALE:GREGORIAN
BEGIN:VEVENT
DTSTAMP:20260420T083254Z
UID:ec5965ba-427f-4675-a013-30739864478f
DTSTART:20261010T000000
DTEND:20261010T030000
DESCRIPTION:Vulvectomy live in concert at Castellhell Festival 2026
LOCATION:Castellhell Festival 2026\, Castellvell del Camp\, \, Spain
ORGANIZER:mailto:events@ampwrecked.com
SUMMARY:Vulvectomy - Vulvectomy at Castellhell Festival 2026
END:VEVENT
END:VCALENDAR
