BEGIN:VCALENDAR
VERSION:2.0
PRODID:icalendar-ruby
CALSCALE:GREGORIAN
BEGIN:VEVENT
DTSTAMP:20260420T083221Z
UID:90247ab1-4ca3-4809-8a43-ba088d8dc78e
DTSTART:20260524T000000
DTEND:20260524T030000
DESCRIPTION:When the Sun Sets live in concert at When The Sun Sets\, You vs
  Yesterday\, Be The Young\, Public Figure\, + Walk Off @The Annex
LOCATION:When The Sun Sets\, You vs Yesterday\, Be The Young\, Public Figur
 e\, + Walk Off @The Annex\, Madison\, WI\, USA
ORGANIZER:mailto:events@ampwrecked.com
SUMMARY:When the Sun Sets - When the Sun Sets at When The Sun Sets\, You vs
  Yesterday\, Be The Young\, Public Figure\, + Walk Off @The Annex
END:VEVENT
END:VCALENDAR
