BEGIN:VCALENDAR
VERSION:2.0
PRODID:icalendar-ruby
CALSCALE:GREGORIAN
BEGIN:VEVENT
DTSTAMP:20260420T104317Z
UID:88962980-8778-4014-a3ce-df01a6bf19d8
DTSTART:20260614T000000
DTEND:20260614T030000
DESCRIPTION:The All-American Rejects live in concert at Recess Tour
LOCATION:Recess Tour\, Manchester\, \, United Kingdom
ORGANIZER:mailto:events@ampwrecked.com
SUMMARY:The All-American Rejects - The All-American Rejects at Recess Tour
END:VEVENT
END:VCALENDAR
