BEGIN:VCALENDAR
VERSION:2.0
PRODID:icalendar-ruby
CALSCALE:GREGORIAN
BEGIN:VEVENT
DTSTAMP:20260420T083253Z
UID:82a08f84-72ed-4cc8-9e26-62e8c693320d
DTSTART:20260814T000000
DTEND:20260814T030000
DESCRIPTION:Default Aggression live in concert at Rock the River 2026
LOCATION:Rock the River 2026\, Saskatoon\, SK\, USA
ORGANIZER:mailto:events@ampwrecked.com
SUMMARY:Default Aggression - Default Aggression at Rock the River 2026
END:VEVENT
END:VCALENDAR
