BEGIN:VCALENDAR
VERSION:2.0
PRODID:icalendar-ruby
CALSCALE:GREGORIAN
BEGIN:VEVENT
DTSTAMP:20260420T083253Z
UID:df3f5937-5e21-4e45-b14c-1f85d7130d45
DTSTART:20260712T000000
DTEND:20260712T030000
DESCRIPTION:Default Aggression live in concert at Rock The Lake 2026
LOCATION:Rock The Lake 2026\, Kelowna\, BC\, USA
ORGANIZER:mailto:events@ampwrecked.com
SUMMARY:Default Aggression - Default Aggression at Rock The Lake 2026
END:VEVENT
END:VCALENDAR
