BEGIN:VCALENDAR
VERSION:2.0
PRODID:icalendar-ruby
CALSCALE:GREGORIAN
BEGIN:VEVENT
DTSTAMP:20260420T083223Z
UID:3d381f1b-1649-4bb0-a346-49b1fc83df93
DTSTART:20260521T000000
DTEND:20260521T030000
DESCRIPTION:she's green live in concert at The Concert Hall
LOCATION:The Concert Hall\, Toronto\, ON\, USA
ORGANIZER:mailto:events@ampwrecked.com
SUMMARY:she's green - she's green at The Concert Hall
END:VEVENT
END:VCALENDAR
