BEGIN:VCALENDAR
VERSION:2.0
PRODID:icalendar-ruby
CALSCALE:GREGORIAN
BEGIN:VEVENT
DTSTAMP:20260420T083307Z
UID:f77f2acf-270d-4091-933d-8b2ef90d51ac
DTSTART:20260517T000000
DTEND:20260517T030000
DESCRIPTION:she's green live in concert at Black Cat
LOCATION:Black Cat\, Washington\, DC\, USA
ORGANIZER:mailto:events@ampwrecked.com
SUMMARY:she's green - she's green at Black Cat
END:VEVENT
END:VCALENDAR
