BEGIN:VCALENDAR
VERSION:2.0
PRODID:icalendar-ruby
CALSCALE:GREGORIAN
BEGIN:VEVENT
DTSTAMP:20260420T083457Z
UID:659cfcf6-1a84-4b52-8b60-16330cd7fb3c
DTSTART:20260516T000000
DTEND:20260516T030000
DESCRIPTION:she's green live in concert at Slide Away Festival 2026
LOCATION:Slide Away Festival 2026\, Brooklyn\, NY\, USA
ORGANIZER:mailto:events@ampwrecked.com
SUMMARY:she's green - she's green at Slide Away Festival 2026
END:VEVENT
END:VCALENDAR
