BEGIN:VCALENDAR
VERSION:2.0
PRODID:icalendar-ruby
CALSCALE:GREGORIAN
BEGIN:VEVENT
DTSTAMP:20260420T083400Z
UID:c3563bb7-bbbc-4eae-905f-0898890a8448
DTSTART:20260602T000000
DTEND:20260602T030000
DESCRIPTION:THIEV live in concert at Ventura Music Hall Reserved
LOCATION:Ventura Music Hall Reserved\, Ventura\, CA\, USA
ORGANIZER:mailto:events@ampwrecked.com
SUMMARY:THIEV - THIEV at Ventura Music Hall Reserved
END:VEVENT
END:VCALENDAR
