BEGIN:VCALENDAR
VERSION:2.0
PRODID:icalendar-ruby
CALSCALE:GREGORIAN
BEGIN:VEVENT
DTSTAMP:20260420T083457Z
UID:00fe9d63-6d2f-4fe9-a45c-3d20dd896257
DTSTART:20260912T000000
DTEND:20260912T030000
DESCRIPTION:Underoath live in concert at Vans Warped Tour Mexico City 2026
LOCATION:Vans Warped Tour Mexico City 2026\, México\, \, Mexico
ORGANIZER:mailto:events@ampwrecked.com
SUMMARY:Underoath - Underoath at Vans Warped Tour Mexico City 2026
END:VEVENT
END:VCALENDAR
