BEGIN:VCALENDAR
VERSION:2.0
PRODID:icalendar-ruby
CALSCALE:GREGORIAN
BEGIN:VEVENT
DTSTAMP:20260420T083308Z
UID:d5c7dd98-bf54-4302-838a-8ad2f87a8c31
DTSTART:20260603T000000
DTEND:20260603T030000
DESCRIPTION:Meet Me @ The Altar live in concert at The Mod Club
LOCATION:The Mod Club\, Toronto\, ON\, USA
ORGANIZER:mailto:events@ampwrecked.com
SUMMARY:Meet Me @ The Altar - Meet Me @ The Altar at The Mod Club
END:VEVENT
END:VCALENDAR
