BEGIN:VCALENDAR
VERSION:2.0
PRODID:icalendar-ruby
CALSCALE:GREGORIAN
BEGIN:VEVENT
DTSTAMP:20260420T083309Z
UID:e9abf3b8-a647-4036-b05d-0779097dbe1b
DTSTART:20260602T000000
DTEND:20260602T030000
DESCRIPTION:Meet Me @ The Altar live in concert at The Shelter
LOCATION:The Shelter\, Detroit\, MI\, USA
ORGANIZER:mailto:events@ampwrecked.com
SUMMARY:Meet Me @ The Altar - Meet Me @ The Altar at The Shelter
END:VEVENT
END:VCALENDAR
