BEGIN:VCALENDAR
VERSION:2.0
PRODID:icalendar-ruby
CALSCALE:GREGORIAN
BEGIN:VEVENT
DTSTAMP:20260420T083419Z
UID:75b5726d-bb34-487d-ac9b-b0c184578d8a
DTSTART:20260530T000000
DTEND:20260530T030000
DESCRIPTION:Meet Me @ The Altar live in concert at Wooly's
LOCATION:Wooly's\, Des Moines\, IA\, USA
ORGANIZER:mailto:events@ampwrecked.com
SUMMARY:Meet Me @ The Altar - Meet Me @ The Altar at Wooly's
END:VEVENT
END:VCALENDAR
