BEGIN:VCALENDAR
VERSION:2.0
PRODID:icalendar-ruby
CALSCALE:GREGORIAN
BEGIN:VEVENT
DTSTAMP:20260420T083458Z
UID:a58e1b50-88a9-4711-a4cc-dc0401d7763a
DTSTART:20260807T000000
DTEND:20260807T030000
DESCRIPTION:Malicious Destruction Of Property live in concert at Doiboch Op
 en Air
LOCATION:Doiboch Open Air\, Siegenburg\, \, Germany
ORGANIZER:mailto:events@ampwrecked.com
SUMMARY:Malicious Destruction Of Property - Malicious Destruction Of Proper
 ty at Doiboch Open Air
END:VEVENT
END:VCALENDAR
