BEGIN:VCALENDAR
VERSION:2.0
PRODID:icalendar-ruby
CALSCALE:GREGORIAN
BEGIN:VEVENT
DTSTAMP:20260420T084959Z
UID:4c9b6c70-b732-42b0-8a67-b3e74e9c9395
DTSTART:20260626T000000
DTEND:20260626T030000
DESCRIPTION:Malicious Destruction Of Property live in concert at Arsenal FE
 ST 2026
LOCATION:Arsenal FEST 2026\, Kragujevac\, \, Serbia
ORGANIZER:mailto:events@ampwrecked.com
SUMMARY:Malicious Destruction Of Property - Malicious Destruction Of Proper
 ty at Arsenal FEST 2026
END:VEVENT
END:VCALENDAR
