BEGIN:VCALENDAR
VERSION:2.0
PRODID:icalendar-ruby
CALSCALE:GREGORIAN
BEGIN:VEVENT
DTSTAMP:20260420T083459Z
UID:ad3ad13b-fc79-4f1c-b8e5-c7deca533fc1
DTSTART:20260621T000000
DTEND:20260621T030000
DESCRIPTION:Malicious Destruction Of Property live in concert at FEZEN Fesz
 tivál 2026
LOCATION:FEZEN Fesztivál 2026\, Székesfehérvár\, \, Hungary
ORGANIZER:mailto:events@ampwrecked.com
SUMMARY:Malicious Destruction Of Property - Malicious Destruction Of Proper
 ty at FEZEN Fesztivál 2026
END:VEVENT
END:VCALENDAR
