BEGIN:VCALENDAR
VERSION:2.0
PRODID:icalendar-ruby
CALSCALE:GREGORIAN
BEGIN:VEVENT
DTSTAMP:20260420T083359Z
UID:de3c7c73-4967-47ce-a909-83ed3c044ff3
DTSTART:20260521T000000
DTEND:20260521T030000
DESCRIPTION:Malicious Destruction Of Property live in concert at Maryland D
 eathfest 2026
LOCATION:Maryland Deathfest 2026\, Baltimore\, MD\, USA
ORGANIZER:mailto:events@ampwrecked.com
SUMMARY:Malicious Destruction Of Property - Malicious Destruction Of Proper
 ty at Maryland Deathfest 2026
END:VEVENT
END:VCALENDAR
