BEGIN:VCALENDAR
VERSION:2.0
PRODID:icalendar-ruby
CALSCALE:GREGORIAN
BEGIN:VEVENT
DTSTAMP:20260420T083457Z
UID:3e7a2a68-ad17-4f4f-a193-673b2b3e6ab0
DTSTART:20260502T000000
DTEND:20260502T030000
DESCRIPTION:thrown live in concert at Tulips FTW
LOCATION:Tulips FTW\, Fort Worth\, TX\, USA
ORGANIZER:mailto:events@ampwrecked.com
SUMMARY:thrown - thrown at Tulips FTW
END:VEVENT
END:VCALENDAR
