BEGIN:VCALENDAR
VERSION:2.0
PRODID:icalendar-ruby
CALSCALE:GREGORIAN
BEGIN:VEVENT
DTSTAMP:20260420T083415Z
UID:5fa7feb7-9d1b-4d1f-8641-a4c6bc448341
DTSTART:20260523T000000
DTEND:20260523T030000
DESCRIPTION:Signals Midwest live in concert at Sooki Lounge
LOCATION:Sooki Lounge\, Belgrave\, \, Australia
ORGANIZER:mailto:events@ampwrecked.com
SUMMARY:Signals Midwest - Signals Midwest at Sooki Lounge
END:VEVENT
END:VCALENDAR
