BEGIN:VCALENDAR
VERSION:2.0
PRODID:icalendar-ruby
CALSCALE:GREGORIAN
BEGIN:VEVENT
DTSTAMP:20260420T083308Z
UID:7a687c0e-a9eb-4da9-b1e4-c2050a44a7e7
DTSTART:20260521T000000
DTEND:20260521T030000
DESCRIPTION:Signals Midwest live in concert at Hamilton Station Hotel
LOCATION:Hamilton Station Hotel\, Islington\, \, Australia
ORGANIZER:mailto:events@ampwrecked.com
SUMMARY:Signals Midwest - Signals Midwest at Hamilton Station Hotel
END:VEVENT
END:VCALENDAR
