BEGIN:VCALENDAR
VERSION:2.0
PRODID:icalendar-ruby
CALSCALE:GREGORIAN
BEGIN:VEVENT
DTSTAMP:20260420T103232Z
UID:6efe02a5-b67e-444a-bd27-8dfb4368e7a8
DTSTART:20260807T000000
DTEND:20260807T030000
DESCRIPTION:Limit of Destruction live in concert at Doiboch Open Air
LOCATION:Doiboch Open Air\, Siegenburg\, \, Germany
ORGANIZER:mailto:events@ampwrecked.com
SUMMARY:Limit of Destruction - Limit of Destruction at Doiboch Open Air
END:VEVENT
END:VCALENDAR
