BEGIN:VCALENDAR
VERSION:2.0
PRODID:icalendar-ruby
CALSCALE:GREGORIAN
BEGIN:VEVENT
DTSTAMP:20260420T083400Z
UID:516d9a95-f830-43b4-a3cd-7daf9fadf5f3
DTSTART:20260521T000000
DTEND:20260521T030000
DESCRIPTION:Limit of Destruction live in concert at Maryland Deathfest 2026
LOCATION:Maryland Deathfest 2026\, Baltimore\, MD\, USA
ORGANIZER:mailto:events@ampwrecked.com
SUMMARY:Limit of Destruction - Limit of Destruction at Maryland Deathfest 2
 026
END:VEVENT
END:VCALENDAR
