BEGIN:VCALENDAR
VERSION:2.0
PRODID:icalendar-ruby
CALSCALE:GREGORIAN
BEGIN:VEVENT
DTSTAMP:20260420T083459Z
UID:4b9264d7-439b-49ea-b559-3c20555dd512
DTSTART:20260515T000000
DTEND:20260515T030000
DESCRIPTION:Gone Cold live in concert at The Sacred & Severed Tour @ Morseb
 ergers Tavern
LOCATION:The Sacred & Severed Tour @ Morsebergers Tavern\, Catonsville\, MD
 \, USA
ORGANIZER:mailto:events@ampwrecked.com
SUMMARY:Gone Cold - Gone Cold at The Sacred & Severed Tour @ Morsebergers T
 avern
END:VEVENT
END:VCALENDAR
