BEGIN:VCALENDAR
VERSION:2.0
PRODID:icalendar-ruby
CALSCALE:GREGORIAN
BEGIN:VEVENT
DTSTAMP:20260420T083359Z
UID:92cad2c9-9336-4884-a49e-3d44b422c489
DTSTART:20260720T000000
DTEND:20260720T030000
DESCRIPTION:End live in concert at Wings\, Wheels & Rock n Roll
LOCATION:Wings\, Wheels & Rock n Roll\, Shibuya City\, \, Japan
ORGANIZER:mailto:events@ampwrecked.com
SUMMARY:End - End at Wings\, Wheels & Rock n Roll
END:VEVENT
END:VCALENDAR
