BEGIN:VCALENDAR
VERSION:2.0
PRODID:icalendar-ruby
CALSCALE:GREGORIAN
BEGIN:VEVENT
DTSTAMP:20260420T083420Z
UID:414f4b82-b4bc-4610-b7fc-10c3550debae
DTSTART:20260616T000000
DTEND:20260616T030000
DESCRIPTION:Agent Orange live in concert at The Big Dipper
LOCATION:The Big Dipper\, Spokane\, WA\, USA
ORGANIZER:mailto:events@ampwrecked.com
SUMMARY:Agent Orange - Agent Orange at The Big Dipper
END:VEVENT
END:VCALENDAR
