BEGIN:VCALENDAR
VERSION:2.0
PRODID:icalendar-ruby
CALSCALE:GREGORIAN
BEGIN:VEVENT
DTSTAMP:20260420T083415Z
UID:022d29cb-c74a-4374-8793-a9b80646e82e
DTSTART:20260604T000000
DTEND:20260604T030000
DESCRIPTION:Sparta live in concert at What's Left Records
LOCATION:What's Left Records\, Colorado Springs\, CO\, USA
ORGANIZER:mailto:events@ampwrecked.com
SUMMARY:Sparta - Sparta at What's Left Records
END:VEVENT
END:VCALENDAR
