BEGIN:VCALENDAR
VERSION:2.0
PRODID:icalendar-ruby
CALSCALE:GREGORIAN
BEGIN:VEVENT
DTSTAMP:20260420T083458Z
UID:97ec348f-9a6b-43d5-98a1-b90914360ebd
DTSTART:20260603T000000
DTEND:20260603T030000
DESCRIPTION:Sparta live in concert at The Marigold Room
LOCATION:The Marigold Room\, Santa Fe\, NM\, USA
ORGANIZER:mailto:events@ampwrecked.com
SUMMARY:Sparta - Sparta at The Marigold Room
END:VEVENT
END:VCALENDAR
