BEGIN:VCALENDAR
VERSION:2.0
PRODID:icalendar-ruby
CALSCALE:GREGORIAN
BEGIN:VEVENT
DTSTAMP:20260420T083221Z
UID:3a87f27b-52a4-48b4-b75f-3802213b061d
DTSTART:20260502T000000
DTEND:20260502T030000
DESCRIPTION:Thrown Away live in concert at Tulips FTW
LOCATION:Tulips FTW\, Fort Worth\, TX\, USA
ORGANIZER:mailto:events@ampwrecked.com
SUMMARY:Thrown Away - Thrown Away at Tulips FTW
END:VEVENT
END:VCALENDAR
