BEGIN:VCALENDAR
VERSION:2.0
PRODID:icalendar-ruby
CALSCALE:GREGORIAN
BEGIN:VEVENT
DTSTAMP:20260420T083401Z
UID:086b23a7-036f-4be4-9395-366e28228ad4
DTSTART:20260501T000000
DTEND:20260501T030000
DESCRIPTION:Thrown Away live in concert at Lowbrow Palace
LOCATION:Lowbrow Palace\, El Paso\, TX\, USA
ORGANIZER:mailto:events@ampwrecked.com
SUMMARY:Thrown Away - Thrown Away at Lowbrow Palace
END:VEVENT
END:VCALENDAR
