BEGIN:VCALENDAR
VERSION:2.0
PRODID:icalendar-ruby
CALSCALE:GREGORIAN
BEGIN:VEVENT
DTSTAMP:20260420T083253Z
UID:844c4cbd-8916-4c4c-9caf-8565abd735dd
DTSTART:20260710T000000
DTEND:20260710T030000
DESCRIPTION:MACABRE live in concert at Baroeg
LOCATION:Baroeg\, Rotterdam\, \, Netherlands
ORGANIZER:mailto:events@ampwrecked.com
SUMMARY:MACABRE - MACABRE at Baroeg
END:VEVENT
END:VCALENDAR
