BEGIN:VCALENDAR
VERSION:2.0
PRODID:icalendar-ruby
CALSCALE:GREGORIAN
BEGIN:VEVENT
DTSTAMP:20260420T083252Z
UID:cadfe90f-a333-4c2b-b28d-b2e443b19bfb
DTSTART:20260911T000000
DTEND:20260911T030000
DESCRIPTION:Knuckle Puck live in concert at The Fillmore Philadelphia
LOCATION:The Fillmore Philadelphia\, Philadelphia\, PA\, USA
ORGANIZER:mailto:events@ampwrecked.com
SUMMARY:Knuckle Puck - Knuckle Puck at The Fillmore Philadelphia
END:VEVENT
END:VCALENDAR
