BEGIN:VCALENDAR
VERSION:2.0
PRODID:icalendar-ruby
CALSCALE:GREGORIAN
BEGIN:VEVENT
DTSTAMP:20260420T083223Z
UID:3a955c5a-02da-4f4c-ba6a-24e0ca9a9b52
DTSTART:20260512T000000
DTEND:20260512T030000
DESCRIPTION:Greyhaven live in concert at Le Rex de Toulouse
LOCATION:Le Rex de Toulouse\, Toulouse\, \, France
ORGANIZER:mailto:events@ampwrecked.com
SUMMARY:Greyhaven - Greyhaven at Le Rex de Toulouse
END:VEVENT
END:VCALENDAR
