BEGIN:VCALENDAR
VERSION:2.0
PRODID:icalendar-ruby
CALSCALE:GREGORIAN
BEGIN:VEVENT
DTSTAMP:20260420T083254Z
UID:7561a125-6444-41be-8bd9-5ab6f954d610
DTSTART:20260511T000000
DTEND:20260511T030000
DESCRIPTION:Greyhaven live in concert at Backstage Paris
LOCATION:Backstage Paris\, Paris\, \, France
ORGANIZER:mailto:events@ampwrecked.com
SUMMARY:Greyhaven - Greyhaven at Backstage Paris
END:VEVENT
END:VCALENDAR
