BEGIN:VCALENDAR
VERSION:2.0
PRODID:icalendar-ruby
CALSCALE:GREGORIAN
BEGIN:VEVENT
DTSTAMP:20260420T083359Z
UID:c634bbcd-aa37-41e0-a3d2-c62fc858963e
DTSTART:20260508T000000
DTEND:20260508T030000
DESCRIPTION:Strife live in concert at Earth Crisis + Strife - 30 Years of G
 SE
LOCATION:Earth Crisis + Strife - 30 Years of GSE\, Liverpool\, NY\, USA
ORGANIZER:mailto:events@ampwrecked.com
SUMMARY:Strife - Strife at Earth Crisis + Strife - 30 Years of GSE
END:VEVENT
END:VCALENDAR
