BEGIN:VCALENDAR
VERSION:2.0
PRODID:icalendar-ruby
CALSCALE:GREGORIAN
BEGIN:VEVENT
DTSTAMP:20260420T095615Z
UID:2c0efd07-de94-4578-94c6-7a96a449b703
DTSTART:20260410T000000
DTEND:20260410T030000
DESCRIPTION:The Devil Wears Prada live in concert at House of Blues Myrtle 
 Beach
LOCATION:House of Blues Myrtle Beach\, North Myrtle Beach\, SC\, USA
ORGANIZER:mailto:events@ampwrecked.com
SUMMARY:The Devil Wears Prada - The Devil Wears Prada at House of Blues Myr
 tle Beach
END:VEVENT
END:VCALENDAR
