BEGIN:VCALENDAR
VERSION:2.0
PRODID:icalendar-ruby
CALSCALE:GREGORIAN
BEGIN:VEVENT
DTSTAMP:20260420T083308Z
UID:1d5dcb20-25e0-4d8e-b9e7-c655fa8a11eb
DTSTART:20260411T000000
DTEND:20260411T030000
DESCRIPTION:Caskets live in concert at House of Blues Anaheim
LOCATION:House of Blues Anaheim\, Anaheim\, CA\, USA
ORGANIZER:mailto:events@ampwrecked.com
SUMMARY:Caskets - Caskets at House of Blues Anaheim
END:VEVENT
END:VCALENDAR
