BEGIN:VCALENDAR
VERSION:2.0
PRODID:icalendar-ruby
CALSCALE:GREGORIAN
BEGIN:VEVENT
DTSTAMP:20260420T100132Z
UID:7a08ceab-114e-4b2f-bc76-67abc297866d
DTSTART:20260410T000000
DTEND:20260410T030000
DESCRIPTION:Makari live in concert at Hail The Sun\, Foxy Shazam\, Makari\,
  Mella
LOCATION:Hail The Sun\, Foxy Shazam\, Makari\, Mella\, Pensacola\, FL\, USA
ORGANIZER:mailto:events@ampwrecked.com
SUMMARY:Makari - Makari at Hail The Sun\, Foxy Shazam\, Makari\, Mella
END:VEVENT
END:VCALENDAR
