BEGIN:VCALENDAR
VERSION:2.0
PRODID:icalendar-ruby
CALSCALE:GREGORIAN
BEGIN:VEVENT
DTSTAMP:20260420T100022Z
UID:14cdb8ec-8066-4e4e-8300-be9524469184
DTSTART:20260410T000000
DTEND:20260410T030000
DESCRIPTION:Ov Sulfur live in concert at The Regent Theater
LOCATION:The Regent Theater\, Los Angeles\, CA\, USA
ORGANIZER:mailto:events@ampwrecked.com
SUMMARY:Ov Sulfur - Ov Sulfur at The Regent Theater
END:VEVENT
END:VCALENDAR
