BEGIN:VCALENDAR
VERSION:2.0
PRODID:icalendar-ruby
CALSCALE:GREGORIAN
BEGIN:VEVENT
DTSTAMP:20260420T100133Z
UID:ecac946e-5c9a-47a8-aea5-c79f0a737c43
DTSTART:20260409T000000
DTEND:20260409T030000
DESCRIPTION:Ov Sulfur live in concert at Observatory
LOCATION:Observatory\, Santa Ana\, CA\, USA
ORGANIZER:mailto:events@ampwrecked.com
SUMMARY:Ov Sulfur - Ov Sulfur at Observatory
END:VEVENT
END:VCALENDAR
