BEGIN:VCALENDAR
VERSION:2.0
PRODID:icalendar-ruby
CALSCALE:GREGORIAN
BEGIN:VEVENT
DTSTAMP:20260420T083253Z
UID:6db44cf5-7edf-4f6b-9363-3a6325918977
DTSTART:20260407T000000
DTEND:20260407T030000
DESCRIPTION:Ov Sulfur live in concert at The Nile Theater
LOCATION:The Nile Theater\, Mesa\, AZ\, USA
ORGANIZER:mailto:events@ampwrecked.com
SUMMARY:Ov Sulfur - Ov Sulfur at The Nile Theater
END:VEVENT
END:VCALENDAR
